BEGIN:VCALENDAR
PRODID:-//eluceo/ical//2.0/EN
VERSION:2.0
CALSCALE:GREGORIAN
BEGIN:VEVENT
UID:www.tcs.tifr.res.in/event/1707
DTSTAMP:20260413T051644Z
SUMMARY:To be Announced
DESCRIPTION:Speaker: Shivaram Kalyanakrishnan (IIT Bombay)\n\nAbstract: \nT
 o be Announced\n
URL:https://www.tcs.tifr.res.in/web/events/1707
DTSTART;TZID=Asia/Kolkata:20260526T160000
DTEND;TZID=Asia/Kolkata:20260526T170000
LOCATION:A-201
END:VEVENT
END:VCALENDAR
