BEGIN:VCALENDAR
PRODID:-//eluceo/ical//2.0/EN
VERSION:2.0
CALSCALE:GREGORIAN
BEGIN:VEVENT
UID:www.tcs.tifr.res.in/event/1710
DTSTAMP:20260420T085427Z
SUMMARY:To be Announced
DESCRIPTION:Speaker: Sushmita Gupta (The Institute of Mathematical Sciences
 )\n\nAbstract: \nTo be Announced \n
URL:https://www.tcs.tifr.res.in/web/events/1710
DTSTART;TZID=Asia/Kolkata:20260707T160000
DTEND;TZID=Asia/Kolkata:20260707T170000
LOCATION:A201
END:VEVENT
END:VCALENDAR
